BEGIN:VCALENDAR
VERSION:2.0
PRODID:icalendar-ruby
CALSCALE:GREGORIAN
METHOD:PUBLISH
BEGIN:VEVENT
DTSTAMP:20260423T192919Z
UID:35-1698447@stjohnsvernonct.org
DTSTART:20261021T233000Z
DTEND:20261022T010000Z
CLASS:PUBLIC
CREATED:20260423T132351
DESCRIPTION:Each Wednesday night Al-Anon meets in our lower parish hall.
LAST-MODIFIED:20260423T132351
LOCATION:St. Mary's Hall
SUMMARY:Wednesday Night AFG (Al-Anon)
URL;VALUE=URI:https://www.stjohnsvernonct.org/events/wednesday-night-afg-al
 -anon/2026-10-21
ATTACH;FILENAME=AlAnon.png;FMTTYPE=image/png:https://dq5pwpg1q8ru0.cloudfro
 nt.net/2023/10/25/05/22/59/3c66e3e6-c9de-482f-b2c9-ebae980da82a/AlAnon.png
END:VEVENT
END:VCALENDAR
