BEGIN:VCALENDAR
VERSION:2.0
PRODID:icalendar-ruby
CALSCALE:GREGORIAN
METHOD:PUBLISH
BEGIN:VEVENT
DTSTAMP:20260423T222612Z
UID:17-1699364@stjohnsvernonct.org
DTSTART:20261004T140000Z
DTEND:20261004T150000Z
CLASS:PUBLIC
CREATED:20260423T162012
DESCRIPTION:Our primary weekly liturgical celebration using Rite II with mu
 sic and choir. Church school for the children occurs during the first part
  of the service during the school year.
LAST-MODIFIED:20260423T162012
LOCATION:St. Mary's Hall
SUMMARY:Sunday Eucharist - Rite II
URL;VALUE=URI:https://www.stjohnsvernonct.org/events/sunday-eucharist-rite-
 ii/2026-10-04
ATTACH;FILENAME=Eucharist vessels.jpg;FMTTYPE=image/jpeg:https://dq5pwpg1q8
 ru0.cloudfront.net/2023/09/25/08/13/48/24d27f32-3a69-4839-9c41-40490c2a430
 e/Eucharist%20vessels.jpg
END:VEVENT
END:VCALENDAR
