BEGIN:VCALENDAR
VERSION:2.0
PRODID:icalendar-ruby
CALSCALE:GREGORIAN
METHOD:PUBLISH
BEGIN:VEVENT
DTSTAMP:20260420T051456Z
UID:16-1667052@stjohnsvernonct.org
DTSTART:20261025T120000Z
DTEND:20261025T130000Z
CLASS:PUBLIC
CREATED:20260419T224732
DESCRIPTION:A quieter early morning Eucharist generally without music and u
 sing Rite I
LAST-MODIFIED:20260419T224732
LOCATION:Church
SUMMARY:Sunday Eucharist - Rite I
URL;VALUE=URI:https://www.stjohnsvernonct.org/events/sunday-eucharist-rite-
 i/2026-10-25
ATTACH;FILENAME=Communion vessels.jpg;FMTTYPE=image/jpeg:https://dq5pwpg1q8
 ru0.cloudfront.net/2023/09/25/09/13/23/6d4849d7-a9d4-4b35-95bb-ff937127943
 d/Communion%20vessels.jpg
END:VEVENT
END:VCALENDAR
