BEGIN:VCALENDAR
VERSION:2.0
PRODID:icalendar-ruby
CALSCALE:GREGORIAN
METHOD:PUBLISH
BEGIN:VEVENT
DTSTAMP:20260421T085856Z
UID:182-1261217@stjohnsvernonct.org
DTSTART:20260315T213000Z
DTEND:20260315T223000Z
CLASS:PUBLIC
CREATED:20260301T094748
DESCRIPTION:Please join us for the annual St. Patrick’s Day Corned Beef a
 nd Cabbage Dinner on Sunday\, March 15th @ 5:30pm in St. Mary’s Hall. Su
 ggested donations are Adults $10/Families $25 with proceeds going to outre
 ach. 
LAST-MODIFIED:20260301T094748
LOCATION:St. Mary's Hall
SUMMARY:Corned Beef and Cabbage Dinner
URL;VALUE=URI:https://www.stjohnsvernonct.org/events/corned-beef-and-cabbag
 e-dinner/2026-03-15
ATTACH;FILENAME=corned  beef.jpg;FMTTYPE=image/jpeg:https://dq5pwpg1q8ru0.c
 loudfront.net/2026/03/01/14/47/48/3ec35997-717e-4442-8ebd-5a19f97bdf99/cor
 ned%20%20beef.jpg
END:VEVENT
END:VCALENDAR
