BEGIN:VCALENDAR
VERSION:2.0
PRODID:icalendar-ruby
CALSCALE:GREGORIAN
METHOD:PUBLISH
BEGIN:VEVENT
DTSTAMP:20260419T183150Z
UID:197-1663996@stjohnsvernonct.org
DTSTART:20260930T163000Z
DTEND:20260930T173000Z
CLASS:PUBLIC
CREATED:20260419T114323
DESCRIPTION:
LAST-MODIFIED:20260419T114323
LOCATION:St. Mary's Hall
SUMMARY:Bible Study
URL;VALUE=URI:https://www.stjohnsvernonct.org/events/bible-study--196/2026-
 09-30
ATTACH;FILENAME=Bible study.jpg;FMTTYPE=image/jpeg:https://dq5pwpg1q8ru0.cl
 oudfront.net/2025/04/24/13/09/12/420dfdf2-51cf-48e3-b85a-3ea7eae423a7/Bibl
 e%20study.jpg
END:VEVENT
END:VCALENDAR
